BEGIN:VCALENDAR
VERSION:2.0
PRODID:-//Bergsportverein Jena e.V. - ECPv4.9.14//NONSGML v1.0//EN
CALSCALE:GREGORIAN
METHOD:PUBLISH
X-WR-CALNAME:Bergsportverein Jena e.V.
X-ORIGINAL-URL:https://bergsport-jena.de
X-WR-CALDESC:Veranstaltungen im Bergsportverein Jena e.V.
BEGIN:VTIMEZONE
TZID:Europe/Berlin
BEGIN:DAYLIGHT
TZOFFSETFROM:+0100
TZOFFSETTO:+0200
TZNAME:CEST
DTSTART:20200329T010000
END:DAYLIGHT
BEGIN:STANDARD
TZOFFSETFROM:+0200
TZOFFSETTO:+0100
TZNAME:CET
DTSTART:20201025T010000
END:STANDARD
END:VTIMEZONE
BEGIN:VEVENT
DTSTART;TZID=Europe/Berlin:20200701T080000
DTEND;TZID=Europe/Berlin:20200705T170000
DTSTAMP:20260420T081903
CREATED:20200119T223227Z
LAST-MODIFIED:20230208T232930Z
UID:3637-1593590400-1593968400@bergsport-jena.de
SUMMARY:Hochtourenkurs Alpen. 1. – 5. 7. 2020
DESCRIPTION:Ausschreibung folgt. \n
URL:https://bergsport-jena.de/event/hochtour-alpen-1-5-7-2020
CATEGORIES:Ausbildung
ORGANIZER;CN="H.%20Schneidewind":MAILTO:h-schneidewind (at) t-online.de
END:VEVENT
END:VCALENDAR