BEGIN:VCALENDAR
VERSION:2.0
PRODID:-//Bergsportverein Jena e.V. - ECPv4.9.14//NONSGML v1.0//EN
CALSCALE:GREGORIAN
METHOD:PUBLISH
X-WR-CALNAME:Bergsportverein Jena e.V.
X-ORIGINAL-URL:https://bergsport-jena.de
X-WR-CALDESC:Veranstaltungen im Bergsportverein Jena e.V.
BEGIN:VTIMEZONE
TZID:Europe/Berlin
BEGIN:DAYLIGHT
TZOFFSETFROM:+0100
TZOFFSETTO:+0200
TZNAME:CEST
DTSTART:20190331T010000
END:DAYLIGHT
BEGIN:STANDARD
TZOFFSETFROM:+0200
TZOFFSETTO:+0100
TZNAME:CET
DTSTART:20191027T010000
END:STANDARD
END:VTIMEZONE
BEGIN:VEVENT
DTSTART;TZID=Europe/Berlin:20190330T140000
DTEND;TZID=Europe/Berlin:20190330T170000
DTSTAMP:20260421T082519
CREATED:20190120T093821Z
LAST-MODIFIED:20230208T233256Z
UID:3311-1553954400-1553965200@bergsport-jena.de
SUMMARY:Anklettern mit Theorie-Ausbildung. 30. 3. 2019
DESCRIPTION:Liebe Bergfreunde\,\nes ist wieder soweit: am Samstag (30.03.) finden unser „Anklettern“ und davor der Arbeitseinsatz an der Rabenschüssel statt. \nRabenschüssel \nSiehe Arbeitseinsatz Rabenschüssel 30. 3. 2019. \nAnklettern in der Leutratalhütte \nAus der Einladung des letzten Jahres \nDie Hütte wird ab ca. 12 Uhr von Familie Lindner geöffnet. Familie Deicke bringt Holzkohle mit\, um Grillen zu können. Für Getränke wird auch gesorgt. Ab 14 Uhr denke ich\, aus Erfurt zurück sein zu können\, so dass wir in der Hütte fortsetzen. Natürlich werde ich von der TBB-Versammlung berichten können. Außerdem überlege ich mir ein paar Dinge zur Ausbildung bzw. neuen oder interessanten Dingen in der Lehrmeinung. \nIch werde Laptop und Beamer mitbringen\, so dass wir anschließend Bilder des Vorjahres anschauen können. Bringt dazu Eure Bilder – auf einem eigenen Rechner oder USB-Stick – mit. Es müssen nicht endlos viele sein (bitte keine Vorträge a 200 Bilder). Wenn wir allerdings gar nichts hätten\, wäre es auch nicht schön. Schließlich sind die meisten von uns im letzten Jahr irgendwo unterwegs gewesen und der eine oder andere hat sicher fotografiert. \nUrsprünglich hatten wir die Idee\, am folgenden Sonntag zu klettern – also das Anklettern auch tatsächlich zu praktizieren. Dem werden aber vermutlich die zu erwartenden Minusgrade entgegen stehen. \nBitte denkt daran\, dass in der Leutratalhütte Hüttenschuhe notwendig sind. \nViele Grüße\,\nHenrik \nOrt: Leutratalhütte \nOrganisation: Jochen Lindner\, Henrik Schneidewind \n
URL:https://bergsport-jena.de/event/anklettern-mit-theorie-ausbildung-30-3-2019
LOCATION:Leutratal-Hütte der Naturschutzjugend Thüringen\, Pösen bei Bucha\, Jena
CATEGORIES:Ausbildung,Gemeinschaftsfahrt
GEO:50.867811;11.520975
X-APPLE-STRUCTURED-LOCATION;VALUE=URI;X-ADDRESS=Leutratal-Hütte der Naturschutzjugend Thüringen Pösen bei Bucha Jena;X-APPLE-RADIUS=500;X-TITLE=Pösen bei Bucha:geo:11.520975,50.867811
END:VEVENT
END:VCALENDAR